BEGIN:VCALENDAR
VERSION:2.0
PRODID:-//eventon.com NONSGML v1.0//EN
CALSCALE:GREGORIAN
METHOD:PUBLISH
BEGIN:VEVENT
UID:69e583d5c09a0
DTSTAMP:20260420T013933Z
DTSTART:20260615
DTEND:20260616
LOCATION:Schule am Stadtpark
SUMMARY:Fahrt ins Schullandheim
DESCRIPTION:\nhttps://behindertenhilfe-limbach-oberfrohna.de/events/fahrt-i
 ns-schullandheim/
URL:https://behindertenhilfe-limbach-oberfrohna.de/events/fahrt-ins-schullandheim/
END:VEVENT
END:VCALENDAR