BEGIN:VCALENDAR
VERSION:2.0
PRODID:-//eventon.com NONSGML v1.0//EN
CALSCALE:GREGORIAN
METHOD:PUBLISH
BEGIN:VEVENT
UID:69e589721ddf1
DTSTAMP:20260420T020330Z
DTSTART:20260803
DTEND:20260804
LOCATION:Schule am Stadtpark
SUMMARY:Sommerferien - Ferienbetreuung
DESCRIPTION:\nhttps://behindertenhilfe-limbach-oberfrohna.de/events/sommerf
 erien-ferienbetreuung-4/
URL:https://behindertenhilfe-limbach-oberfrohna.de/events/sommerferien-ferienbetreuung-4/
END:VEVENT
END:VCALENDAR