BEGIN:VCALENDAR
VERSION:2.0
PRODID:-//eventon.com NONSGML v1.0//EN
CALSCALE:GREGORIAN
METHOD:PUBLISH
BEGIN:VEVENT
UID:69e58a24ce0df
DTSTAMP:20260420T020628Z
DTSTART:20260713
DTEND:20260714
LOCATION:Schule am Stadtpark
SUMMARY:Sommerferien - Schließzeit
DESCRIPTION:\nhttps://behindertenhilfe-limbach-oberfrohna.de/events/sommerf
 erien-schliesszeit-3/
URL:https://behindertenhilfe-limbach-oberfrohna.de/events/sommerferien-schliesszeit-3/
END:VEVENT
END:VCALENDAR