BEGIN:VCALENDAR
VERSION:2.0
PRODID:-//eventon.com NONSGML v1.0//EN
CALSCALE:GREGORIAN
METHOD:PUBLISH
BEGIN:VEVENT
UID:69e589ecd1880
DTSTAMP:20260420T020532Z
DTSTART:20260706
DTEND:20260707
LOCATION:Schule am Stadtpark
SUMMARY:Sommerferien - Ferienbetreuung
DESCRIPTION:\nhttps://behindertenhilfe-limbach-oberfrohna.de/events/sommerf
 erien-ferienbetreuung-3/
URL:https://behindertenhilfe-limbach-oberfrohna.de/events/sommerferien-ferienbetreuung-3/
END:VEVENT
END:VCALENDAR