BEGIN:VCALENDAR
VERSION:2.0
PRODID:-//eventon.com NONSGML v1.0//EN
CALSCALE:GREGORIAN
METHOD:PUBLISH
BEGIN:VEVENT
UID:69e58a4f942df
DTSTAMP:20260420T020711Z
DTSTART:20261223
DTEND:20261224
LOCATION:Schule am Stadtpark
SUMMARY:Weihnachtsferien
DESCRIPTION:\nhttps://behindertenhilfe-limbach-oberfrohna.de/events/weihnac
 htsferien-4/
URL:https://behindertenhilfe-limbach-oberfrohna.de/events/weihnachtsferien-4/
END:VEVENT
END:VCALENDAR