BEGIN:VCALENDAR
VERSION:2.0
PRODID:-//eventon.com NONSGML v1.0//EN
CALSCALE:GREGORIAN
METHOD:PUBLISH
BEGIN:VEVENT
UID:69e58a7428da9
DTSTAMP:20260420T020748Z
DTSTART:20261012
DTEND:20261013
LOCATION:Schule am Stadtpark
SUMMARY:Herbstferien
DESCRIPTION:\nhttps://behindertenhilfe-limbach-oberfrohna.de/events/herbstf
 erien-3/
URL:https://behindertenhilfe-limbach-oberfrohna.de/events/herbstferien-3/
END:VEVENT
END:VCALENDAR