BEGIN:VCALENDAR
VERSION:2.0
PRODID:-//eventon.com NONSGML v1.0//EN
CALSCALE:GREGORIAN
METHOD:PUBLISH
BEGIN:VEVENT
UID:69e583d59e839
DTSTAMP:20260420T013933Z
DTSTART:20260515
DTEND:20260516
LOCATION:Schule am Stadtpark
SUMMARY:Ferientag nach Himmelfahrt - Schule geschlossen
DESCRIPTION:\nhttps://behindertenhilfe-limbach-oberfrohna.de/events/ferient
 ag-nach-himmelfahrt-schule-geschlossen/
URL:https://behindertenhilfe-limbach-oberfrohna.de/events/ferientag-nach-himmelfahrt-schule-geschlossen/
END:VEVENT
END:VCALENDAR