BEGIN:VCALENDAR
VERSION:2.0
PRODID:-//eventon.com NONSGML v1.0//EN
CALSCALE:GREGORIAN
METHOD:PUBLISH
BEGIN:VEVENT
UID:69e589bed7d3e
DTSTAMP:20260420T020446Z
DTSTART:20261223
DTEND:20261224
LOCATION:
SUMMARY:Kitas geschlossen
DESCRIPTION:\nhttps://behindertenhilfe-limbach-oberfrohna.de/events/kitas-g
 eschlossen/
URL:https://behindertenhilfe-limbach-oberfrohna.de/events/kitas-geschlossen/
END:VEVENT
END:VCALENDAR