BEGIN:VCALENDAR
VERSION:2.0
PRODID:-//eventon.com NONSGML v1.0//EN
CALSCALE:GREGORIAN
METHOD:PUBLISH
BEGIN:VEVENT
UID:69e589963c2ed
DTSTAMP:20260420T020406Z
DTSTART:20261106
DTEND:20261107
LOCATION:Kita "Am Wasserturm" Prof.-Willkomm-Strasse 16 09212 Limbach-Oberfrohna
SUMMARY:Pädagogischer Tag Kita am Wasserturm - Kita geschlossen
DESCRIPTION:\nhttps://behindertenhilfe-limbach-oberfrohna.de/events/paedago
 gischer-tag-kita-am-wasserturm-kita-geschlossen-3/
URL:https://behindertenhilfe-limbach-oberfrohna.de/events/paedagogischer-tag-kita-am-wasserturm-kita-geschlossen-3/
END:VEVENT
END:VCALENDAR