BEGIN:VCALENDAR
VERSION:2.0
PRODID:-//eventon.com NONSGML v1.0//EN
CALSCALE:GREGORIAN
METHOD:PUBLISH
BEGIN:VEVENT
UID:69e589bec1f25
DTSTAMP:20260420T020446Z
DTSTART:20261102
DTEND:20261103
LOCATION:KiTa Lindenstraße Lindenstraße 3 09212 Limbach-Oberfrohna
SUMMARY:Pädagogischer Tag der Kita Lindenstraße - Kita geschlossen
DESCRIPTION:\nhttps://behindertenhilfe-limbach-oberfrohna.de/events/paedago
 gischer-tag-der-kita-lindenstrasse-kita-geschlossen-2/
URL:https://behindertenhilfe-limbach-oberfrohna.de/events/paedagogischer-tag-der-kita-lindenstrasse-kita-geschlossen-2/
END:VEVENT
END:VCALENDAR