BEGIN:VCALENDAR
VERSION:2.0
PRODID:-//eventon.com NONSGML v1.0//EN
CALSCALE:GREGORIAN
METHOD:PUBLISH
BEGIN:VEVENT
UID:69e589722b77d
DTSTAMP:20260420T020330Z
DTSTART:20260827T160000Z
DTEND:20260827T180000Z
LOCATION:Kita "Am Wasserturm" Prof.-Willkomm-Strasse 16 09212 Limbach-Oberfrohna
SUMMARY:Elternabend in der Kita am Wasserturm
DESCRIPTION:\nhttps://behindertenhilfe-limbach-oberfrohna.de/events/elterna
 bend-in-der-kita-am-wasserturm/
URL:https://behindertenhilfe-limbach-oberfrohna.de/events/elternabend-in-der-kita-am-wasserturm/
END:VEVENT
END:VCALENDAR