BEGIN:VCALENDAR
VERSION:2.0
PRODID:-//eventon.com NONSGML v1.0//EN
CALSCALE:GREGORIAN
METHOD:PUBLISH
BEGIN:VEVENT
UID:69e58398672e2
DTSTAMP:20260420T013832Z
DTSTART:20260515
DTEND:20260516
LOCATION:Kita "Am Wasserturm" Prof.-Willkomm-Strasse 16 09212 Limbach-Oberfrohna
SUMMARY:Kita geschlossen
DESCRIPTION:\nhttps://behindertenhilfe-limbach-oberfrohna.de/events/kita-ge
 schlossen-10/
URL:https://behindertenhilfe-limbach-oberfrohna.de/events/kita-geschlossen-10/
END:VEVENT
END:VCALENDAR