BEGIN:VCALENDAR
VERSION:2.0
PRODID:-//eventon.com NONSGML v1.0//EN
CALSCALE:GREGORIAN
METHOD:PUBLISH
BEGIN:VEVENT
UID:69e58a3f4446f
DTSTAMP:20260420T020655Z
DTSTART:20261205T090000Z
DTEND:20261205T100000Z
LOCATION:Albert Schweitzer Gymnasium Pleißaer Str. 10\, 09212 Limbach-Oberfrohna
SUMMARY:Weihnachtsmärchen
DESCRIPTION:\nhttps://behindertenhilfe-limbach-oberfrohna.de/events/weihnac
 htsmaerchen-2/
URL:https://behindertenhilfe-limbach-oberfrohna.de/events/weihnachtsmaerchen-2/
END:VEVENT
END:VCALENDAR