BEGIN:VCALENDAR
VERSION:2.0
PRODID:-//eventon.com NONSGML v1.0//EN
CALSCALE:GREGORIAN
METHOD:PUBLISH
BEGIN:VEVENT
UID:69e58a2b285da
DTSTAMP:20260420T020635Z
DTSTART:20261117T170000Z
DTEND:20261117T180000Z
LOCATION:Kita "Am Wasserturm" Prof.-Willkomm-Strasse 16 09212 Limbach-Oberfrohna
SUMMARY:Mitgliederversammlung
DESCRIPTION:\nhttps://behindertenhilfe-limbach-oberfrohna.de/events/mitglie
 derversammlung-4/
URL:https://behindertenhilfe-limbach-oberfrohna.de/events/mitgliederversammlung-4/
END:VEVENT
END:VCALENDAR