BEGIN:VCALENDAR
VERSION:2.0
PRODID:-//eventon.com NONSGML v1.0//EN
CALSCALE:GREGORIAN
METHOD:PUBLISH
BEGIN:VEVENT
UID:69e589cfd0455
DTSTAMP:20260420T020503Z
DTSTART:20261112T160000Z
DTEND:20261112T180000Z
LOCATION:Stadtpark Limbach-Oberfrohna
SUMMARY:Lampionumzug der Kitas
DESCRIPTION:\nhttps://behindertenhilfe-limbach-oberfrohna.de/events/lampion
 umzug-der-kitas-3/
URL:https://behindertenhilfe-limbach-oberfrohna.de/events/lampionumzug-der-kitas-3/
END:VEVENT
END:VCALENDAR