BEGIN:VCALENDAR
VERSION:2.0
PRODID:-//eventon.com NONSGML v1.0//EN
CALSCALE:GREGORIAN
METHOD:PUBLISH
BEGIN:VEVENT
UID:69e589cfe2bd0
DTSTAMP:20260420T020503Z
DTSTART:20260905T080000Z
DTEND:20260905T140000Z
LOCATION:Kita "Am Wasserturm" Prof.-Willkomm-Strasse 16 09212 Limbach-Oberfrohna
SUMMARY:Herbstfest
DESCRIPTION:\nhttps://behindertenhilfe-limbach-oberfrohna.de/events/herbstf
 est-3/
URL:https://behindertenhilfe-limbach-oberfrohna.de/events/herbstfest-3/
END:VEVENT
END:VCALENDAR