BEGIN:VCALENDAR
VERSION:2.0
PRODID:-//eventon.com NONSGML v1.0//EN
CALSCALE:GREGORIAN
METHOD:PUBLISH
BEGIN:VEVENT
UID:69e58a7927cf6
DTSTAMP:20260420T020753Z
DTSTART:20260703T080000Z
DTEND:20260703T090000Z
LOCATION:Stadtkirche
SUMMARY:Schuljahresabschluss-Gottesdienst
DESCRIPTION:\nhttps://behindertenhilfe-limbach-oberfrohna.de/events/schulja
 hresabschluss-gottesdienst-4/
URL:https://behindertenhilfe-limbach-oberfrohna.de/events/schuljahresabschluss-gottesdienst-4/
END:VEVENT
END:VCALENDAR