BEGIN:VCALENDAR
VERSION:2.0
PRODID:-//eventon.com NONSGML v1.0//EN
CALSCALE:GREGORIAN
METHOD:PUBLISH
BEGIN:VEVENT
UID:69e5838f0697b
DTSTAMP:20260420T013823Z
DTSTART:20260606T080000Z
DTEND:20260606T140000Z
LOCATION:KiTa Lindenstraße Lindenstraße 3 09212 Limbach-Oberfrohna
SUMMARY:Straßenfest der Behindertenhilfe
DESCRIPTION:\nhttps://behindertenhilfe-limbach-oberfrohna.de/events/strasse
 nfest-der-behindertenhilfe-2/
URL:https://behindertenhilfe-limbach-oberfrohna.de/events/strassenfest-der-behindertenhilfe-2/
END:VEVENT
END:VCALENDAR