BEGIN:VCALENDAR
VERSION:2.0
PRODID:-//eventon.com NONSGML v1.0//EN
CALSCALE:GREGORIAN
METHOD:PUBLISH
BEGIN:VEVENT
UID:69e5838f9a745
DTSTAMP:20260420T013823Z
DTSTART:20260425T080000Z
DTEND:20260425T110000Z
LOCATION:Schule am Stadtpark
SUMMARY:Tag der offenen Tür
DESCRIPTION:\nhttps://behindertenhilfe-limbach-oberfrohna.de/events/tag-der
 -offenen-tuer-5/
URL:https://behindertenhilfe-limbach-oberfrohna.de/events/tag-der-offenen-tuer-5/
END:VEVENT
END:VCALENDAR